BEGIN:VCALENDAR
VERSION:2.0
PRODID:-//eventon.com NONSGML v1.0//EN
BEGIN:VEVENT
UID:69e736054f3e1
DTSTAMP:20260421T013205
DTSTART:20170125
DTEND:20170125
TZID:UTC
LOCATION:
SUMMARY:2017 Congress of Tomorrow: the strategic planning retreat for the Republican Members of Congress.
DESCRIPTION: 2017 Congress of Tomorrow: the strategic planning retreat for the Republican Members of Congress.\nhttps://hopeunseen.com/events/2017-congress-tomorrow-strategic-planning-retreat-republican-members-congress/
URL:https://hopeunseen.com/events/2017-congress-tomorrow-strategic-planning-retreat-republican-members-congress/
END:VEVENT
END:VCALENDAR