BEGIN:VCALENDAR
VERSION:2.0
PRODID:-//eventon.com NONSGML v1.0//EN
BEGIN:VEVENT
UID:69e7483a53344
DTSTAMP:20260421T024946
DTSTART:20170328
DTEND:20170328
TZID:UTC
LOCATION:
SUMMARY:Bayer CropScience Meeting
DESCRIPTION: Bayer CropScience Meeting\nhttps://hopeunseen.com/events/bayer-cropscience-meeting/
URL:https://hopeunseen.com/events/bayer-cropscience-meeting/
END:VEVENT
END:VCALENDAR