BEGIN:VCALENDAR
VERSION:2.0
PRODID:-//eventon.com NONSGML v1.0//EN
BEGIN:VEVENT
UID:69e89e39430de
DTSTAMP:20260422T030857
DTSTART:20170503
DTEND:20170503
TZID:UTC
LOCATION:
SUMMARY:Bayer CropScience Meeting
DESCRIPTION: Bayer CropScience Meeting\nhttps://hopeunseen.com/events/bayer-cropscience-meeting-3/
URL:https://hopeunseen.com/events/bayer-cropscience-meeting-3/
END:VEVENT
END:VCALENDAR