BEGIN:VCALENDAR
VERSION:2.0
PRODID:-//eventon.com NONSGML v1.0//EN
BEGIN:VEVENT
UID:69e74cbec0833
DTSTAMP:20260421T030902
DTSTART:20170505
DTEND:20170505
TZID:UTC
LOCATION:
SUMMARY:Franklin County Republicans Lincoln Day Dinner
DESCRIPTION: Franklin County Republicans Lincoln Day Dinner\nhttps://hopeunseen.com/events/franklin-county-republicans-lincoln-day-dinner/
URL:https://hopeunseen.com/events/franklin-county-republicans-lincoln-day-dinner/
END:VEVENT
END:VCALENDAR